BEGIN:VCALENDAR
VERSION:2.0
PRODID:-//Sabre//Sabre VObject 4.5.8//EN
CALSCALE:GREGORIAN
BEGIN:VEVENT
UID:sabre-vobject-538531aa-7b7a-4177-912f-2d847de296c9
DTSTAMP:20260422T083639Z
SUMMARY:Atem holen am Abend - besinnliche Abendandacht
DESCRIPTION:https://pfarreien-bistum-augsburg.df-preview.de/atem-holen-am-a
 bend-besinnliche-abendandacht_id1720676
DTSTART;TZID=Europe/Berlin:20260421T170000
DURATION:PT30M
LOCATION:St. Thomas\, Thomasplatz 2\, 87600 Kaufbeuren
END:VEVENT
END:VCALENDAR
