BEGIN:VCALENDAR
VERSION:2.0
PRODID:-//Sabre//Sabre VObject 4.5.8//EN
CALSCALE:GREGORIAN
BEGIN:VEVENT
UID:sabre-vobject-bf6431cc-d9a4-454e-bf08-bdcf1f59d71b
DTSTAMP:20260420T120002Z
SUMMARY:Beichtgelegenheit
DESCRIPTION:https://pfarreien-bistum-augsburg.df-preview.de/beichtgelegenhe
 it_id1720633
DTSTART;TZID=Europe/Berlin:20260418T100000
DURATION:PT30M
LOCATION:St. Martin
END:VEVENT
END:VCALENDAR
