BEGIN:VCALENDAR
VERSION:2.0
PRODID:-//Sabre//Sabre VObject 4.5.8//EN
CALSCALE:GREGORIAN
BEGIN:VEVENT
UID:sabre-vobject-7026dfc4-6c61-400a-968a-55cbb103eea9
DTSTAMP:20260419T132417Z
SUMMARY:Hl. Messe 30 Jahre Katholischer Deutscher Frauenbund Unterknöringe
 n
DESCRIPTION:https://pfarreien-bistum-augsburg.df-preview.de/hl-messe-30-jah
 re-katholischer-deutscher-frauenbund-unterknoeringen_id1720543
DTSTART;TZID=Europe/Berlin:20260418T170000
DURATION:PT30M
LOCATION:St. Martin
END:VEVENT
END:VCALENDAR
