BEGIN:VCALENDAR
VERSION:2.0
PRODID:-//Sabre//Sabre VObject 4.5.8//EN
CALSCALE:GREGORIAN
BEGIN:VEVENT
UID:sabre-vobject-49a5576f-fa57-43e6-908c-d42b350b0b2d
DTSTAMP:20260421T111830Z
SUMMARY:Taizé-Gebet
DESCRIPTION:https://pfarreien-bistum-augsburg.df-preview.de/taize-gebet_id1
 720528
DTSTART;TZID=Europe/Berlin:20260424T193000
DURATION:PT30M
LOCATION:Mariä Himmelfahrt
END:VEVENT
END:VCALENDAR
