BEGIN:VCALENDAR
VERSION:2.0
PRODID:-//Sabre//Sabre VObject 4.5.8//EN
CALSCALE:GREGORIAN
BEGIN:VEVENT
UID:sabre-vobject-b375034f-03dd-4074-af3f-3a9cfb9b1d4a
DTSTAMP:20260424T081110Z
SUMMARY:Traditionelle Wallfahrt nach Violau\, Treffpunkt an der Antoniuskap
 elle Oberknöringen
DESCRIPTION:https://pfarreien-bistum-augsburg.df-preview.de/traditionelle-w
 allfahrt-nach-violau-treffpunkt-an-der-antoniuskapelle-oberknoeringen_id17
 20527
DTSTART;TZID=Europe/Berlin:20260501T044500
DURATION:PT30M
LOCATION:Mariä Himmelfahrt
END:VEVENT
END:VCALENDAR
