BEGIN:VCALENDAR
VERSION:2.0
PRODID:-//Sabre//Sabre VObject 4.5.8//EN
CALSCALE:GREGORIAN
BEGIN:VEVENT
UID:sabre-vobject-cdec4d87-a321-41f0-9313-c79dd6a631e1
DTSTAMP:20260425T114650Z
SUMMARY:Hl. Messe anschließend Anbetung
DESCRIPTION:https://pfarreien-bistum-augsburg.df-preview.de/hl-messe-anschl
 iessend-anbetung_id1720526
DTSTART;TZID=Europe/Berlin:20260429T183000
DURATION:PT30M
LOCATION:Mariä Himmelfahrt
END:VEVENT
END:VCALENDAR
