BEGIN:VCALENDAR
VERSION:2.0
PRODID:-//Sabre//Sabre VObject 4.5.8//EN
CALSCALE:GREGORIAN
BEGIN:VEVENT
UID:sabre-vobject-6ff205a9-a13d-4f82-a55c-aaa89d5a7dfa
DTSTAMP:20260420T160601Z
SUMMARY:Hl. Messe in der Seitenkapelle
DESCRIPTION:https://pfarreien-bistum-augsburg.df-preview.de/hl-messe-in-der
 -seitenkapelle_id1719937
DTSTART;TZID=Europe/Berlin:20260420T090000
DURATION:PT30M
LOCATION:Hlgst. Dreifaltigkeit
END:VEVENT
END:VCALENDAR
