BEGIN:VCALENDAR
VERSION:2.0
PRODID:-//Sabre//Sabre VObject 4.5.8//EN
CALSCALE:GREGORIAN
BEGIN:VEVENT
UID:sabre-vobject-edccc416-60d9-4d38-b726-9ed1e9e288aa
DTSTAMP:20260425T000004Z
SUMMARY:Hl. Messe in der Seitenkapelle
DESCRIPTION:https://pfarreien-bistum-augsburg.df-preview.de/hl-messe-in-der
 -seitenkapelle_id1719919
DTSTART;TZID=Europe/Berlin:20260422T090000
DURATION:PT30M
LOCATION:Hlgst. Dreifaltigkeit
END:VEVENT
END:VCALENDAR
