BEGIN:VCALENDAR
VERSION:2.0
PRODID:-//Sabre//Sabre VObject 4.5.8//EN
CALSCALE:GREGORIAN
BEGIN:VEVENT
UID:sabre-vobject-a0227635-c18b-435d-8d22-cf29f65c630c
DTSTAMP:20260422T225637Z
SUMMARY:Hl. Messe
DESCRIPTION:https://pfarreien-bistum-augsburg.df-preview.de/hl-messe_id1719
 699
DTSTART;TZID=Europe/Berlin:20260425T103000
DURATION:PT30M
LOCATION:Herz Mariä
END:VEVENT
END:VCALENDAR
