BEGIN:VCALENDAR
VERSION:2.0
PRODID:-//Sabre//Sabre VObject 4.5.8//EN
CALSCALE:GREGORIAN
BEGIN:VEVENT
UID:sabre-vobject-e318d910-e254-480d-9685-c01f71a0b927
DTSTAMP:20260422T154312Z
SUMMARY:Jugendmesse
DESCRIPTION:https://pfarreien-bistum-augsburg.df-preview.de/jugendmesse_id1
 719695
DTSTART;TZID=Europe/Berlin:20260423T071500
DURATION:PT30M
LOCATION:Herz Mariä
END:VEVENT
END:VCALENDAR
