BEGIN:VCALENDAR
VERSION:2.0
PRODID:-//Sabre//Sabre VObject 4.5.8//EN
CALSCALE:GREGORIAN
BEGIN:VEVENT
UID:sabre-vobject-3c9308dd-eee7-40f4-85d2-90a39dda96c2
DTSTAMP:20260420T195159Z
SUMMARY:Hl. Messe
DESCRIPTION:https://pfarreien-bistum-augsburg.df-preview.de/hl-messe_id1719
 627
DTSTART;TZID=Europe/Berlin:20260420T181000
DURATION:PT30M
LOCATION:Herz Mariä
END:VEVENT
END:VCALENDAR
