BEGIN:VCALENDAR
VERSION:2.0
PRODID:-//Sabre//Sabre VObject 4.5.8//EN
CALSCALE:GREGORIAN
BEGIN:VEVENT
UID:sabre-vobject-8009aca3-1a90-47f4-9793-0bbdb8f316fb
DTSTAMP:20260421T184256Z
SUMMARY:Rosenkranz für geistliche Berufungen
DESCRIPTION:https://pfarreien-bistum-augsburg.df-preview.de/rosenkranz-fuer
 -geistliche-berufungen_id1719615
DTSTART;TZID=Europe/Berlin:20260430T183000
DURATION:PT30M
LOCATION:Heilige Familie\, Am Sonneneck 45\, 87600 Kaufbeuren
END:VEVENT
END:VCALENDAR
