BEGIN:VCALENDAR
VERSION:2.0
PRODID:-//Sabre//Sabre VObject 4.5.8//EN
CALSCALE:GREGORIAN
BEGIN:VEVENT
UID:sabre-vobject-73524353-a742-4ef8-96bc-3649ce803126
DTSTAMP:20260425T130139Z
SUMMARY:Heilige Messe im Altenheim St. Ulrich
DESCRIPTION:https://pfarreien-bistum-augsburg.df-preview.de/heilige-messe-i
 m-altenheim-st-ulrich_id1718874
DTSTART;TZID=Europe/Berlin:20260421T103000
DURATION:PT30M
LOCATION:Mariä Himmelfahrt
END:VEVENT
END:VCALENDAR
