BEGIN:VCALENDAR
VERSION:2.0
PRODID:-//Sabre//Sabre VObject 4.5.8//EN
CALSCALE:GREGORIAN
BEGIN:VEVENT
UID:sabre-vobject-8617dc77-8643-4b9b-8a12-404c0049e889
DTSTAMP:20260425T140917Z
SUMMARY:Rosenkranz in der Kirche
DESCRIPTION:https://pfarreien-bistum-augsburg.df-preview.de/rosenkranz-in-d
 er-kirche_id1718873
DTSTART;TZID=Europe/Berlin:20260421T090000
DURATION:PT30M
LOCATION:Mariä Himmelfahrt
END:VEVENT
END:VCALENDAR
