BEGIN:VCALENDAR
VERSION:2.0
PRODID:-//Sabre//Sabre VObject 4.5.8//EN
CALSCALE:GREGORIAN
BEGIN:VEVENT
UID:sabre-vobject-1edbd0f4-286e-4e86-bb5e-f184579f514b
DTSTAMP:20260420T170818Z
SUMMARY:Heilige Messe
DESCRIPTION:https://pfarreien-bistum-augsburg.df-preview.de/heilige-messe_i
 d1718607
DTSTART;TZID=Europe/Berlin:20260415T190000
DURATION:PT30M
LOCATION:St. Josef
END:VEVENT
END:VCALENDAR
