BEGIN:VCALENDAR
VERSION:2.0
PRODID:-//Sabre//Sabre VObject 4.5.8//EN
CALSCALE:GREGORIAN
BEGIN:VEVENT
UID:sabre-vobject-4d1ee120-c961-4690-afb9-3379236ff8f3
DTSTAMP:20260420T205433Z
SUMMARY:Rosenkranz
DESCRIPTION:https://pfarreien-bistum-augsburg.df-preview.de/rosenkranz_id17
 18589
DTSTART;TZID=Europe/Berlin:20260416T181500
DURATION:PT30M
LOCATION:Christi Auferstehung
END:VEVENT
END:VCALENDAR
