BEGIN:VCALENDAR
VERSION:2.0
PRODID:-//Sabre//Sabre VObject 4.5.8//EN
CALSCALE:GREGORIAN
BEGIN:VEVENT
UID:sabre-vobject-16f70667-3b19-4907-8e6e-1689357ce53c
DTSTAMP:20260422T141819Z
SUMMARY:Märchen: Klugheit\, Liebe und Lust der Frauen im Märchen.
DESCRIPTION:https://pfarreien-bistum-augsburg.df-preview.de/maerchen-klughe
 it-liebe-und-lust-der-frauen-im-maerchen_id1718439
DTSTART;TZID=Europe/Berlin:20260423T190000
DURATION:PT30M
LOCATION:St. Peter und Paul
END:VEVENT
END:VCALENDAR
