BEGIN:VCALENDAR
VERSION:2.0
PRODID:-//Sabre//Sabre VObject 4.5.8//EN
CALSCALE:GREGORIAN
BEGIN:VEVENT
UID:sabre-vobject-e2d9399a-7170-4505-b46d-aa6eb26bde91
DTSTAMP:20260422T052040Z
SUMMARY:(Bibel-)Zeit für Dich "Ich bin die Tür" mit Holger Wartensleben i
 m Pfarrheim
DESCRIPTION:https://pfarreien-bistum-augsburg.df-preview.de/bibel-zeit-fuer
 -dich-ich-bin-die-tuer-mit-holger-wartensleben-im-pfarrheim_id1718199
DTSTART;TZID=Europe/Berlin:20260422T191500
DURATION:PT30M
LOCATION:St. Sebastian
END:VEVENT
END:VCALENDAR
