BEGIN:VCALENDAR
VERSION:2.0
PRODID:-//Sabre//Sabre VObject 4.5.8//EN
CALSCALE:GREGORIAN
BEGIN:VEVENT
UID:sabre-vobject-d9307f94-39a1-4601-a5ad-a697f753c2e6
DTSTAMP:20260423T044841Z
SUMMARY:Heilige Messe
DESCRIPTION:https://pfarreien-bistum-augsburg.df-preview.de/heilige-messe_i
 d1718169
DTSTART;TZID=Europe/Berlin:20260428T163000
DURATION:PT30M
LOCATION:St. Sebastian
END:VEVENT
END:VCALENDAR
