BEGIN:VCALENDAR
VERSION:2.0
PRODID:-//Sabre//Sabre VObject 4.5.8//EN
CALSCALE:GREGORIAN
BEGIN:VEVENT
UID:sabre-vobject-d4b438a0-358c-456f-b49a-a38d58981c25
DTSTAMP:20260423T015338Z
SUMMARY:Vortrag von Pater Paul über seine Indienreise im Pfarrheim (Kolpin
 gsfamilie und FRAUEN)
DESCRIPTION:https://pfarreien-bistum-augsburg.df-preview.de/vortrag-von-pat
 er-paul-ueber-seine-indienreise-im-pfarrheim-kolpingsfamilie-und-frauen_id
 1718166
DTSTART;TZID=Europe/Berlin:20260426T140000
DURATION:PT30M
LOCATION:St. Sebastian
END:VEVENT
END:VCALENDAR
