BEGIN:VCALENDAR
VERSION:2.0
PRODID:-//Sabre//Sabre VObject 4.5.8//EN
CALSCALE:GREGORIAN
BEGIN:VEVENT
UID:sabre-vobject-33c0d058-05ce-400b-a394-ee317a4e21df
DTSTAMP:20260422T000412Z
SUMMARY:Gottesdienst im Seniorenheim
DESCRIPTION:https://pfarreien-bistum-augsburg.df-preview.de/gottesdienst-im
 -seniorenheim_id1718136
DTSTART;TZID=Europe/Berlin:20260422T160000
DURATION:PT30M
LOCATION:St. Andreas\, Burgstraße 7\, 91809  Wellheim
END:VEVENT
END:VCALENDAR
