BEGIN:VCALENDAR
VERSION:2.0
PRODID:-//Sabre//Sabre VObject 4.5.8//EN
CALSCALE:GREGORIAN
BEGIN:VEVENT
UID:sabre-vobject-09a1ada5-386b-4ce4-94ac-10cdc846f6f8
DTSTAMP:20260422T084930Z
SUMMARY:Stilles Gebet / Anbetung
DESCRIPTION:https://pfarreien-bistum-augsburg.df-preview.de/stilles-gebet-a
 nbetung_id1718102
DTSTART;TZID=Europe/Berlin:20260424T083000
DURATION:PT30M
LOCATION:St. Sebastian
END:VEVENT
END:VCALENDAR
