BEGIN:VCALENDAR
VERSION:2.0
PRODID:-//Sabre//Sabre VObject 4.5.8//EN
CALSCALE:GREGORIAN
BEGIN:VEVENT
UID:sabre-vobject-b70e8e5d-8556-409f-8f48-e4b96247528a
DTSTAMP:20260421T184305Z
SUMMARY:Heiliges Amt
DESCRIPTION:https://pfarreien-bistum-augsburg.df-preview.de/heiliges-amt_id
 1717831
DTSTART;TZID=Europe/Berlin:20260426T101500
DURATION:PT30M
LOCATION:St. Johannes Baptist
END:VEVENT
END:VCALENDAR
