BEGIN:VCALENDAR
VERSION:2.0
PRODID:-//Sabre//Sabre VObject 4.5.8//EN
CALSCALE:GREGORIAN
BEGIN:VEVENT
UID:sabre-vobject-beb2e514-1be0-4e92-a785-ca3188af91c7
DTSTAMP:20260420T140444Z
SUMMARY:Festmesse
DESCRIPTION:https://pfarreien-bistum-augsburg.df-preview.de/festmesse_id171
 7719
DTSTART;TZID=Europe/Berlin:20260501T083000
DURATION:PT30M
LOCATION:St. Ulrich und Stephan\, Kirchbergstraße 8\, 86741  Ehingen a. Ri
 es
END:VEVENT
END:VCALENDAR
