BEGIN:VCALENDAR
VERSION:2.0
PRODID:-//Sabre//Sabre VObject 4.5.8//EN
CALSCALE:GREGORIAN
BEGIN:VEVENT
UID:sabre-vobject-9d8d7ec5-8f79-47bc-8637-e970d00cdeae
DTSTAMP:20260420T130647Z
SUMMARY:Probe zur Erstkommunion
DESCRIPTION:https://pfarreien-bistum-augsburg.df-preview.de/probe-zur-erstk
 ommunion_id1717706
DTSTART;TZID=Europe/Berlin:20260417T160000
DURATION:PT30M
LOCATION:St. Ulrich und Stephan\, Kirchbergstraße 8\, 86741  Ehingen a. Ri
 es
END:VEVENT
END:VCALENDAR
