BEGIN:VCALENDAR
VERSION:2.0
PRODID:-//Sabre//Sabre VObject 4.5.8//EN
CALSCALE:GREGORIAN
BEGIN:VEVENT
UID:sabre-vobject-dd6c056e-85ac-4673-8a4d-edfa4833075e
DTSTAMP:20260422T145253Z
SUMMARY:Senioren-Mittagstisch beim alten Wirt (mit Anmeldung)
DESCRIPTION:https://pfarreien-bistum-augsburg.df-preview.de/senioren-mittag
 stisch-beim-alten-wirt-mit-anmeldung_id1714865
DTSTART;TZID=Europe/Berlin:20260424T120000
DURATION:PT30M
LOCATION:St. Martin
END:VEVENT
END:VCALENDAR
