BEGIN:VCALENDAR
VERSION:2.0
PRODID:-//Sabre//Sabre VObject 4.5.8//EN
CALSCALE:GREGORIAN
BEGIN:VEVENT
UID:sabre-vobject-29821376-cf07-4759-9307-ca1df7107ee2
DTSTAMP:20260422T144040Z
SUMMARY:St. Wolfgang - Hl. Messe
DESCRIPTION:https://pfarreien-bistum-augsburg.df-preview.de/st-wolfgang-hl-
 messe_id1714864
DTSTART;TZID=Europe/Berlin:20260423T190000
DURATION:PT30M
LOCATION:St. Martin
END:VEVENT
END:VCALENDAR
