BEGIN:VCALENDAR
VERSION:2.0
PRODID:-//Sabre//Sabre VObject 4.5.8//EN
CALSCALE:GREGORIAN
BEGIN:VEVENT
UID:sabre-vobject-73d1f2cf-8f7c-468c-910b-152300648f25
DTSTAMP:20260421T223904Z
SUMMARY:Hl. Messe nach dem Messbuch von 1962
DESCRIPTION:https://pfarreien-bistum-augsburg.df-preview.de/hl-messe-nach-d
 em-messbuch-von-1962_id1714585
DTSTART;TZID=Europe/Berlin:20260419T100000
DURATION:PT30M
LOCATION:Mariä Himmelfahrt
END:VEVENT
END:VCALENDAR
