BEGIN:VCALENDAR
VERSION:2.0
PRODID:-//Sabre//Sabre VObject 4.5.8//EN
CALSCALE:GREGORIAN
BEGIN:VEVENT
UID:sabre-vobject-d794161d-d1d7-4804-8eb0-2bf83a7369e9
DTSTAMP:20260421T083558Z
SUMMARY:Kinder beten den Rosenkranz
DESCRIPTION:https://pfarreien-bistum-augsburg.df-preview.de/kinder-beten-de
 n-rosenkranz_id1714581
DTSTART;TZID=Europe/Berlin:20260422T160000
DURATION:PT30M
LOCATION:Mariä Himmelfahrt
END:VEVENT
END:VCALENDAR
