BEGIN:VCALENDAR
VERSION:2.0
PRODID:-//Sabre//Sabre VObject 4.5.8//EN
CALSCALE:GREGORIAN
BEGIN:VEVENT
UID:sabre-vobject-50c6f8c0-9496-458d-91c3-150bebfd5f70
DTSTAMP:20260424T161956Z
SUMMARY:Beichtgelegenheit im Pfarrheim
DESCRIPTION:https://pfarreien-bistum-augsburg.df-preview.de/beichtgelegenhe
 it-im-pfarrheim_id1714530
DTSTART;TZID=Europe/Berlin:20260429T181500
DURATION:PT30M
LOCATION:Mariä Heimsuchung\, Kirchplatz 1\, 86854 Amberg
END:VEVENT
END:VCALENDAR
