BEGIN:VCALENDAR
VERSION:2.0
PRODID:-//Sabre//Sabre VObject 4.5.8//EN
CALSCALE:GREGORIAN
BEGIN:VEVENT
UID:sabre-vobject-d2e9c827-0ae3-4dd1-9f3d-66a610f043a3
DTSTAMP:20260420T122349Z
SUMMARY:HM
DESCRIPTION:https://pfarreien-bistum-augsburg.df-preview.de/hm_id1713946
DTSTART;TZID=Europe/Berlin:20260416T180000
DURATION:PT30M
LOCATION:Mariä Geburt
END:VEVENT
END:VCALENDAR
