BEGIN:VCALENDAR
VERSION:2.0
PRODID:-//Sabre//Sabre VObject 4.5.8//EN
CALSCALE:GREGORIAN
BEGIN:VEVENT
UID:sabre-vobject-65f9f0e0-ca69-4301-bc29-32a03030ac83
DTSTAMP:20260422T055428Z
SUMMARY:Feierliche Erstkommunion
DESCRIPTION:https://pfarreien-bistum-augsburg.df-preview.de/feierliche-erst
 kommunion_id1713755
DTSTART;TZID=Europe/Berlin:20260419T101500
DURATION:PT30M
LOCATION:St. Nikolaus
END:VEVENT
END:VCALENDAR
