BEGIN:VCALENDAR
VERSION:2.0
PRODID:-//Sabre//Sabre VObject 4.5.8//EN
CALSCALE:GREGORIAN
BEGIN:VEVENT
UID:sabre-vobject-db099911-b6ed-4108-a79a-88d5ae811359
DTSTAMP:20260422T055425Z
SUMMARY:Dankandacht der Kommunionkinder
DESCRIPTION:https://pfarreien-bistum-augsburg.df-preview.de/dankandacht-der
 -kommunionkinder_id1713672
DTSTART;TZID=Europe/Berlin:20260419T170000
DURATION:PT30M
LOCATION:St. Nikolaus
END:VEVENT
END:VCALENDAR
