BEGIN:VCALENDAR
VERSION:2.0
PRODID:-//Sabre//Sabre VObject 4.5.8//EN
CALSCALE:GREGORIAN
BEGIN:VEVENT
UID:sabre-vobject-25c32377-a7bc-481b-ae5a-cea29aee9ec0
DTSTAMP:20260421T081251Z
SUMMARY:Wallfahrt nach Andechs
DESCRIPTION:https://pfarreien-bistum-augsburg.df-preview.de/wallfahrt-nach-
 andechs_id1713093
DTSTART;TZID=Europe/Berlin:20260523T071500
DURATION:PT30M
LOCATION:St. Peter und Paul\, Kirchpl. 4\, 82387 Antdorf
END:VEVENT
END:VCALENDAR
