BEGIN:VCALENDAR
VERSION:2.0
PRODID:-//Sabre//Sabre VObject 4.5.8//EN
CALSCALE:GREGORIAN
BEGIN:VEVENT
UID:sabre-vobject-e976055f-e214-469f-8448-fe0f9f1fb7ac
DTSTAMP:20260423T170334Z
SUMMARY:Heilige Messe (Jahrgangstreffen 1954-1958)
DESCRIPTION:https://pfarreien-bistum-augsburg.df-preview.de/heilige-messe-j
 ahrgangstreffen-1954-1958_id1712862
DTSTART;TZID=Europe/Berlin:20260517T101500
DURATION:PT30M
LOCATION:Mariä Reinigung
END:VEVENT
END:VCALENDAR
