BEGIN:VCALENDAR
VERSION:2.0
PRODID:-//Sabre//Sabre VObject 4.5.8//EN
CALSCALE:GREGORIAN
BEGIN:VEVENT
UID:sabre-vobject-3f16047f-54df-46b8-99bd-06894ebfc362
DTSTAMP:20260420T160722Z
SUMMARY:Heilige Messe mit Feier der Ersten Heiligen Kommunion
DESCRIPTION:https://pfarreien-bistum-augsburg.df-preview.de/heilige-messe-m
 it-feier-der-ersten-heiligen-kommunion_id1712517
DTSTART;TZID=Europe/Berlin:20260426T090000
DURATION:PT30M
LOCATION:Mariä Heimsuchung
END:VEVENT
END:VCALENDAR
