BEGIN:VCALENDAR
VERSION:2.0
PRODID:-//Sabre//Sabre VObject 4.5.8//EN
CALSCALE:GREGORIAN
BEGIN:VEVENT
UID:sabre-vobject-aef78b3b-5135-494d-b178-33ae1bd3c852
DTSTAMP:20260422T000552Z
SUMMARY:Oberkreut: Maiandacht an der Franziskuskapelle
DESCRIPTION:https://pfarreien-bistum-augsburg.df-preview.de/oberkreut-maian
 dacht-an-der-franziskuskapelle_id1712503
DTSTART;TZID=Europe/Berlin:20260503T140000
DURATION:PT30M
LOCATION:St. Anna\, Dorfstr. 17\, 86558 Hohenwart - Weichenried
END:VEVENT
END:VCALENDAR
