BEGIN:VCALENDAR
VERSION:2.0
PRODID:-//Sabre//Sabre VObject 4.5.8//EN
CALSCALE:GREGORIAN
BEGIN:VEVENT
UID:sabre-vobject-d9f101c9-f9f2-4ee2-8d24-32e1783a4b6f
DTSTAMP:20260424T093134Z
SUMMARY:Vorabendmesse zum Hochfest Pfingsten
DESCRIPTION:https://pfarreien-bistum-augsburg.df-preview.de/vorabendmesse-z
 um-hochfest-pfingsten_id1712486
DTSTART;TZID=Europe/Berlin:20260523T190000
DURATION:PT30M
LOCATION:St. Ulrich\, Kirchplatz 18\, 85276 Pfaffenhofen
END:VEVENT
END:VCALENDAR
