BEGIN:VCALENDAR
VERSION:2.0
PRODID:-//Sabre//Sabre VObject 4.5.8//EN
CALSCALE:GREGORIAN
BEGIN:VEVENT
UID:sabre-vobject-ec19455b-3411-4071-bd72-7d122bc96129
DTSTAMP:20260424T131019Z
SUMMARY:Maiandacht
DESCRIPTION:https://pfarreien-bistum-augsburg.df-preview.de/maiandacht_id17
 12485
DTSTART;TZID=Europe/Berlin:20260521T190000
DURATION:PT30M
LOCATION:St. Ulrich\, Kirchplatz 18\, 85276 Pfaffenhofen
END:VEVENT
END:VCALENDAR
