BEGIN:VCALENDAR
VERSION:2.0
PRODID:-//Sabre//Sabre VObject 4.5.8//EN
CALSCALE:GREGORIAN
BEGIN:VEVENT
UID:sabre-vobject-6bb25bf9-305c-4af9-9475-0510d1fdcf7c
DTSTAMP:20260423T013458Z
SUMMARY:Bittgottesdienst für Tegernbach\, Göbelsbach\, Ehrenberg u. Euern
 bach
DESCRIPTION:https://pfarreien-bistum-augsburg.df-preview.de/bittgottesdiens
 t-fuer-tegernbach-goebelsbach-ehrenberg-u-euernbach_id1712446
DTSTART;TZID=Europe/Berlin:20260513T193000
DURATION:PT30M
LOCATION:St. Vitus
END:VEVENT
END:VCALENDAR
