BEGIN:VCALENDAR
VERSION:2.0
PRODID:-//Sabre//Sabre VObject 4.5.8//EN
CALSCALE:GREGORIAN
BEGIN:VEVENT
UID:sabre-vobject-cece1b1f-a6fb-4e16-af67-b2b856495d4e
DTSTAMP:20260421T204037Z
SUMMARY:Rosenkranz
DESCRIPTION:https://pfarreien-bistum-augsburg.df-preview.de/rosenkranz_id17
 12434
DTSTART;TZID=Europe/Berlin:20260414T190000
DURATION:PT30M
LOCATION:St. Anna\, Dorfstr. 17\, 86558 Hohenwart - Weichenried
END:VEVENT
END:VCALENDAR
