BEGIN:VCALENDAR
VERSION:2.0
PRODID:-//Sabre//Sabre VObject 4.5.8//EN
CALSCALE:GREGORIAN
BEGIN:VEVENT
UID:sabre-vobject-631bf3a8-919e-4443-9527-38ac874d09c0
DTSTAMP:20260424T213632Z
SUMMARY:Maiandacht an der Kiglerkapelle
DESCRIPTION:https://pfarreien-bistum-augsburg.df-preview.de/maiandacht-an-d
 er-kiglerkapelle_id1712422
DTSTART;TZID=Europe/Berlin:20260523T190000
DURATION:PT30M
LOCATION:St. Pantaleon\, Kirchberg 5\, 86558 Hohenwart - Deimhausen
END:VEVENT
END:VCALENDAR
