BEGIN:VCALENDAR
VERSION:2.0
PRODID:-//Sabre//Sabre VObject 4.5.8//EN
CALSCALE:GREGORIAN
BEGIN:VEVENT
UID:sabre-vobject-15e0d84d-eb09-4160-b3ec-bdc1bc80b419
DTSTAMP:20260423T052352Z
SUMMARY:Heilige Messe zum Hochfest Pfingsten
DESCRIPTION:https://pfarreien-bistum-augsburg.df-preview.de/heilige-messe-z
 um-hochfest-pfingsten_id1712406
DTSTART;TZID=Europe/Berlin:20260524T084500
DURATION:PT30M
LOCATION:St. Ulrich\, Hs.-Nr. 14\, 86558 Hohenwart - Lindach
END:VEVENT
END:VCALENDAR
