BEGIN:VCALENDAR
VERSION:2.0
PRODID:-//Sabre//Sabre VObject 4.5.8//EN
CALSCALE:GREGORIAN
BEGIN:VEVENT
UID:sabre-vobject-3b94327f-d88d-46b1-be7e-99391574b00e
DTSTAMP:20260422T031846Z
SUMMARY:Heilige Messe zum 5. Sonntag in der Osterzeit\, Floriansmesse der F
 FW Weichenried\, Lindach/Eulenried\, Hardt
DESCRIPTION:https://pfarreien-bistum-augsburg.df-preview.de/heilige-messe-z
 um-5-sonntag-in-der-osterzeit-floriansmesse-der-ffw-weichenried-lindach-eu
 lenried-hardt_id1712402
DTSTART;TZID=Europe/Berlin:20260503T084500
DURATION:PT30M
LOCATION:St. Ulrich\, Hs.-Nr. 14\, 86558 Hohenwart - Lindach
END:VEVENT
END:VCALENDAR
