BEGIN:VCALENDAR
VERSION:2.0
PRODID:-//Sabre//Sabre VObject 4.5.8//EN
CALSCALE:GREGORIAN
BEGIN:VEVENT
UID:sabre-vobject-58cd5387-a51a-455c-8aed-e076fb3b816c
DTSTAMP:20260421T151646Z
SUMMARY:Feierliche Maiandacht mit Aussetzung des Allerheiligsten
DESCRIPTION:https://pfarreien-bistum-augsburg.df-preview.de/feierliche-maia
 ndacht-mit-aussetzung-des-allerheiligsten_id1712401
DTSTART;TZID=Europe/Berlin:20260501T190000
DURATION:PT30M
LOCATION:St. Ulrich\, Hs.-Nr. 14\, 86558 Hohenwart - Lindach
END:VEVENT
END:VCALENDAR
