BEGIN:VCALENDAR
VERSION:2.0
PRODID:-//Sabre//Sabre VObject 4.5.8//EN
CALSCALE:GREGORIAN
BEGIN:VEVENT
UID:sabre-vobject-abeee01d-fb25-4f55-b770-37fb900cc980
DTSTAMP:20260425T142850Z
SUMMARY:Hl. Messe
DESCRIPTION:https://pfarreien-bistum-augsburg.df-preview.de/hl-messe_id1712
 164
DTSTART;TZID=Europe/Berlin:20260417T191500
DURATION:PT30M
LOCATION:St. Remigius\, Kirchenweg 10\, 82399 Raisting
END:VEVENT
END:VCALENDAR
