BEGIN:VCALENDAR
VERSION:2.0
PRODID:-//Sabre//Sabre VObject 4.5.8//EN
CALSCALE:GREGORIAN
BEGIN:VEVENT
UID:sabre-vobject-7da5c1e5-fbcf-47c6-9fe1-3d771ccc151e
DTSTAMP:20260425T170344Z
SUMMARY:Hl. Messe in Stillern
DESCRIPTION:https://pfarreien-bistum-augsburg.df-preview.de/hl-messe-in-sti
 llern_id1712162
DTSTART;TZID=Europe/Berlin:20260414T191500
DURATION:PT30M
LOCATION:St. Remigius\, Kirchenweg 10\, 82399 Raisting
END:VEVENT
END:VCALENDAR
