BEGIN:VCALENDAR
VERSION:2.0
PRODID:-//Sabre//Sabre VObject 4.5.8//EN
CALSCALE:GREGORIAN
BEGIN:VEVENT
UID:sabre-vobject-95ee2908-398e-40bb-b4c8-ddd900fe736f
DTSTAMP:20260425T205354Z
SUMMARY:Hl. Messe
DESCRIPTION:https://pfarreien-bistum-augsburg.df-preview.de/hl-messe_id1712
 161
DTSTART;TZID=Europe/Berlin:20260412T101500
DURATION:PT30M
LOCATION:St. Remigius\, Kirchenweg 10\, 82399 Raisting
END:VEVENT
END:VCALENDAR
