BEGIN:VCALENDAR
VERSION:2.0
PRODID:-//Sabre//Sabre VObject 4.5.8//EN
CALSCALE:GREGORIAN
BEGIN:VEVENT
UID:sabre-vobject-0f941d02-437b-42dc-bb8b-2548d3e9c80e
DTSTAMP:20260422T033617Z
SUMMARY:bis 16:30 Beichtgelegenheit in der Seitenkapelle im blickdichten Be
 ichtstuhl
DESCRIPTION:https://pfarreien-bistum-augsburg.df-preview.de/bis-16-30-beich
 tgelegenheit-in-der-seitenkapelle-im-blickdichten-beichtstuhl_id1711833
DTSTART;TZID=Europe/Berlin:20260418T160000
DURATION:PT30M
LOCATION:St. Laurentius
END:VEVENT
END:VCALENDAR
