BEGIN:VCALENDAR
VERSION:2.0
PRODID:-//Sabre//Sabre VObject 4.5.8//EN
CALSCALE:GREGORIAN
BEGIN:VEVENT
UID:sabre-vobject-55ccb364-f319-44af-b20c-6c5cfd8270f9
DTSTAMP:20260424T122815Z
SUMMARY:Hl. Messe für die lebenden und verstorbenen Mitglieder unserer Pfa
 rreiengemeinschaft
DESCRIPTION:https://pfarreien-bistum-augsburg.df-preview.de/hl-messe-fuer-d
 ie-lebenden-und-verstorbenen-mitglieder-unserer-pfarreiengemeinschaft_id17
 11830
DTSTART;TZID=Europe/Berlin:20260413T191500
DURATION:PT30M
LOCATION:St. Laurentius
END:VEVENT
END:VCALENDAR
